{
 "currentVersion": 10.91,
 "serviceDescription": "",
 "mapName": "Layers",
 "description": "",
 "copyrightText": "",
 "supportsDynamicLayers": true,
 "layers": [],
 "tables": [],
 "spatialReference": {
  "wkid": 102719,
  "latestWkid": 2264
 },
 "singleFusedMapCache": true,
 "tileInfo": {
  "rows": 256,
  "cols": 256,
  "dpi": 96,
  "format": "JPEG",
  "compressionQuality": 75,
  "origin": {
   "x": -121841900,
   "y": 154024800
  },
  "spatialReference": {
   "wkid": 102719,
   "latestWkid": 2264
  },
  "lods": [
   {
    "level": 0,
    "resolution": 217.01388888888889,
    "scale": 250000
   },
   {
    "level": 1,
    "resolution": 108.50694444444444,
    "scale": 125000
   },
   {
    "level": 2,
    "resolution": 66.66666666666666,
    "scale": 76800
   },
   {
    "level": 3,
    "resolution": 33.33333333333333,
    "scale": 38400
   },
   {
    "level": 4,
    "resolution": 16.666666666666664,
    "scale": 19200
   },
   {
    "level": 5,
    "resolution": 8.333333333333332,
    "scale": 9600
   },
   {
    "level": 6,
    "resolution": 4.166666666666666,
    "scale": 4800
   },
   {
    "level": 7,
    "resolution": 2.083333333333333,
    "scale": 2400
   },
   {
    "level": 8,
    "resolution": 1.0416666666666665,
    "scale": 1200
   },
   {
    "level": 9,
    "resolution": 0.5208333333333333,
    "scale": 600
   },
   {
    "level": 10,
    "resolution": 0.26041666666666663,
    "scale": 300
   }
  ]
 },
 "initialExtent": {
  "xmin": 1266229.5128275314,
  "ymin": 796654.0905201673,
  "xmax": 1454890.6199160805,
  "ymax": 848881.237517599,
  "spatialReference": {
   "wkid": 102719,
   "latestWkid": 2264
  }
 },
 "fullExtent": {
  "xmin": "NaN",
  "ymin": "NaN",
  "xmax": "NaN",
  "ymax": "NaN",
  "spatialReference": {
   "wkid": 102719,
   "latestWkid": 2264
  }
 },
 "minScale": 0,
 "maxScale": 0,
 "units": "esriFeet",
 "supportedImageFormatTypes": "PNG32,PNG24,PNG,JPG,DIB,TIFF,EMF,PS,PDF,GIF,SVG,SVGZ,BMP",
 "documentInfo": {
  "Title": "",
  "Author": "",
  "Comments": "",
  "Subject": "",
  "Category": "",
  "AntialiasingMode": "None",
  "TextAntialiasingMode": "Force",
  "Keywords": ""
 },
 "capabilities": "Map,Query,Data",
 "supportedQueryFormats": "JSON, geoJSON",
 "exportTilesAllowed": false,
 "referenceScale": 0,
 "supportsDatumTransformation": true,
 "maxRecordCount": 1000,
 "maxImageHeight": 4096,
 "maxImageWidth": 4096,
 "supportedExtensions": ""
}